BEGIN:VCALENDAR
VERSION:2.0
PRODID:icalendar-ruby
CALSCALE:GREGORIAN
METHOD:PUBLISH
BEGIN:VEVENT
DTSTAMP:20260424T070248Z
UID:213-1104982@fwcbr.org
DTSTART:20260509T160000Z
DTEND:20260509T170000Z
CLASS:PUBLIC
CREATED:20260415T153545
DESCRIPTION:JSBC Commencement Ceremony\nSaturday\, May 9\n11 AM | Family Wo
 rship Center\n\nCelebrate the Class of 2026 at Jimmy Swaggart Bible Colleg
 e!\n\nJoin us for the JSBC Commencement Ceremony as we gather to recognize
  and celebrate the achievements of our graduates. This special occasion ma
 rks a significant milestone as diplomas are presented\, and students step 
 into the next chapter of their lives and calling. We invite you to be part
  of this memorable service as we honor their accomplishments and celebrate
  what God has done.
LAST-MODIFIED:20260415T153545
LOCATION:8919 World Ministry Ave Baton Rouge\, LA 70810
SUMMARY:JSBC Commencement Ceremony
URL;VALUE=URI:https://www.fwcbr.org/events/jsbc-commencement-ceremony--213/
 2026-05-09
ATTACH;FILENAME=0415-Commencement-Event.png;FMTTYPE=image/png:https://dq5pw
 pg1q8ru0.cloudfront.net/2026/04/15/20/29/43/c8d8cbc0-3914-4d0b-834d-199168
 8fea3b/0415-Commencement-Event.png
END:VEVENT
END:VCALENDAR
